BEGIN:VCALENDAR
VERSION:2.0
PRODID:-//Peoria Park District - ECPv6.15.15//NONSGML v1.0//EN
CALSCALE:GREGORIAN
METHOD:PUBLISH
X-WR-CALNAME:Peoria Park District
X-ORIGINAL-URL:https://peoriaparks.org
X-WR-CALDESC:Events for Peoria Park District
REFRESH-INTERVAL;VALUE=DURATION:PT1H
X-Robots-Tag:noindex
X-PUBLISHED-TTL:PT1H
BEGIN:VTIMEZONE
TZID:America/Chicago
BEGIN:DAYLIGHT
TZOFFSETFROM:-0600
TZOFFSETTO:-0500
TZNAME:CDT
DTSTART:20250309T080000
END:DAYLIGHT
BEGIN:STANDARD
TZOFFSETFROM:-0500
TZOFFSETTO:-0600
TZNAME:CST
DTSTART:20251102T070000
END:STANDARD
BEGIN:DAYLIGHT
TZOFFSETFROM:-0600
TZOFFSETTO:-0500
TZNAME:CDT
DTSTART:20260308T080000
END:DAYLIGHT
BEGIN:STANDARD
TZOFFSETFROM:-0500
TZOFFSETTO:-0600
TZNAME:CST
DTSTART:20261101T070000
END:STANDARD
BEGIN:DAYLIGHT
TZOFFSETFROM:-0600
TZOFFSETTO:-0500
TZNAME:CDT
DTSTART:20270314T080000
END:DAYLIGHT
BEGIN:STANDARD
TZOFFSETFROM:-0500
TZOFFSETTO:-0600
TZNAME:CST
DTSTART:20271107T070000
END:STANDARD
END:VTIMEZONE
BEGIN:VEVENT
DTSTART;TZID=America/Chicago:20260515T180000
DTEND;TZID=America/Chicago:20260515T210000
DTSTAMP:20260421T090202
CREATED:20260211T235412Z
LAST-MODIFIED:20260406T185636Z
UID:10000419-1778868000-1778878800@peoriaparks.org
SUMMARY:Glow Wild
DESCRIPTION:This spring\, Glow Wild Lantern Festival returns to Peoria Zoo\, transforming the grounds into a dazzling wonderland of light\, color\, and cultural artistry. Back for another unforgettable season\, this year’s festival features an all-new lineup of handcrafted lantern displays\, immersive experiences\, delicious food and drinks\, and live entertainment designed to delight guests of all ages. \nPresented by Kaleido Entertainment in collaboration with the Peoria Park District\, this spectacular glowing event runs March 19 through May 16\, offering a reimagined luminescent journey filled with traditional Chinese lantern craftsmanship\, interactive elements\, and breathtaking performances. \nFestival Details:\n\nLocation: Peoria Zoo – 2320 N. Prospect Rd.\, Peoria\, IL 61603\nEvent Run: March 19 – May 16\, 2026\nOperating Hours: Thursdays through Saturdays | 6:00PM – 9:30PM (last admission at 8:00PM)\n\nLearn more and get your tickets here!
URL:https://peoriaparks.org/event/glow-wild-3/2026-05-15/
LOCATION:Peoria Zoo\, 2320 N. Prospect Rd\, Peoria\, IL\, 61603\, United States
ATTACH;FMTTYPE=image/jpeg:https://peoriaparks.org/wp-content/uploads/PZ-Events-GlowWild-2026-Web-2-scaled.jpg
END:VEVENT
BEGIN:VEVENT
DTSTART;TZID=America/Chicago:20260516T180000
DTEND;TZID=America/Chicago:20260516T210000
DTSTAMP:20260421T090202
CREATED:20260211T235412Z
LAST-MODIFIED:20260406T185636Z
UID:10000420-1778954400-1778965200@peoriaparks.org
SUMMARY:Glow Wild
DESCRIPTION:This spring\, Glow Wild Lantern Festival returns to Peoria Zoo\, transforming the grounds into a dazzling wonderland of light\, color\, and cultural artistry. Back for another unforgettable season\, this year’s festival features an all-new lineup of handcrafted lantern displays\, immersive experiences\, delicious food and drinks\, and live entertainment designed to delight guests of all ages. \nPresented by Kaleido Entertainment in collaboration with the Peoria Park District\, this spectacular glowing event runs March 19 through May 16\, offering a reimagined luminescent journey filled with traditional Chinese lantern craftsmanship\, interactive elements\, and breathtaking performances. \nFestival Details:\n\nLocation: Peoria Zoo – 2320 N. Prospect Rd.\, Peoria\, IL 61603\nEvent Run: March 19 – May 16\, 2026\nOperating Hours: Thursdays through Saturdays | 6:00PM – 9:30PM (last admission at 8:00PM)\n\nLearn more and get your tickets here!
URL:https://peoriaparks.org/event/glow-wild-3/2026-05-16/
LOCATION:Peoria Zoo\, 2320 N. Prospect Rd\, Peoria\, IL\, 61603\, United States
ATTACH;FMTTYPE=image/jpeg:https://peoriaparks.org/wp-content/uploads/PZ-Events-GlowWild-2026-Web-2-scaled.jpg
END:VEVENT
END:VCALENDAR