BEGIN:VCALENDAR
VERSION:2.0
PRODID:-//Peoria Park District - ECPv6.15.15//NONSGML v1.0//EN
CALSCALE:GREGORIAN
METHOD:PUBLISH
X-ORIGINAL-URL:https://peoriaparks.org
X-WR-CALDESC:Events for Peoria Park District
REFRESH-INTERVAL;VALUE=DURATION:PT1H
X-Robots-Tag:noindex
X-PUBLISHED-TTL:PT1H
BEGIN:VTIMEZONE
TZID:America/Chicago
BEGIN:DAYLIGHT
TZOFFSETFROM:-0600
TZOFFSETTO:-0500
TZNAME:CDT
DTSTART:20250309T080000
END:DAYLIGHT
BEGIN:STANDARD
TZOFFSETFROM:-0500
TZOFFSETTO:-0600
TZNAME:CST
DTSTART:20251102T070000
END:STANDARD
BEGIN:DAYLIGHT
TZOFFSETFROM:-0600
TZOFFSETTO:-0500
TZNAME:CDT
DTSTART:20260308T080000
END:DAYLIGHT
BEGIN:STANDARD
TZOFFSETFROM:-0500
TZOFFSETTO:-0600
TZNAME:CST
DTSTART:20261101T070000
END:STANDARD
BEGIN:DAYLIGHT
TZOFFSETFROM:-0600
TZOFFSETTO:-0500
TZNAME:CDT
DTSTART:20270314T080000
END:DAYLIGHT
BEGIN:STANDARD
TZOFFSETFROM:-0500
TZOFFSETTO:-0600
TZNAME:CST
DTSTART:20271107T070000
END:STANDARD
END:VTIMEZONE
BEGIN:VEVENT
DTSTART;TZID=America/Chicago:20260605T160000
DTEND;TZID=America/Chicago:20260605T210000
DTSTAMP:20260421T203612
CREATED:20260325T215756Z
LAST-MODIFIED:20260325T215756Z
UID:10000441-1780675200-1780693200@peoriaparks.org
SUMMARY:Steamboat Classic Pre-Party with Backseat Radio & DJ Birds of Paradise
DESCRIPTION:Kick off race weekend at the Steamboat Classic Pre-Party on the Peoria Riverfront! \nStart the celebration early on June 5\, 2026\, with a high-energy night of music\, dancing\, and riverfront vibes as we gear up for one of Peoria’s favorite traditions. DJ Birds of Paradise will get the party started with a live DJ set featuring dance favorites and crowd-pleasing hits to set the tone for the night. \nFollowing the DJ set\, Backseat Radio will take the stage performing a wide variety of popular songs that keep the energy high and the crowd moving. \nAll runners receive free admission by showing your bib + a guest. \nJoin us on at the CEFCU Center Stage for a fun-filled evening of music\, food trucks\, and celebration! The perfect kickoff to Steamboat Classic weekend. \n  \nDate: Friday\, June 5\, 2026 \nTime: Doors @ 4pm | Show @ 4:30pm \nTickets: Advanced $5 + online fees | Day of Show $10 \nGet your tickets HERE
URL:https://peoriaparks.org/event/steamboat-classic-pre-party-with-backseat-radio-dj-birds-of-paradise/
LOCATION:CEFCU Center Stage @ The Landing\, 200 NE Water Street\, Peoria\, IL\, 61602\, United States
ATTACH;FMTTYPE=image/jpeg:https://peoriaparks.org/wp-content/uploads/RiverFront-2026-Event-Assets-8-4.jpeg
END:VEVENT
BEGIN:VEVENT
DTSTART;TZID=America/Chicago:20260612T180000
DTEND;TZID=America/Chicago:20260612T220000
DTSTAMP:20260421T203612
CREATED:20260325T150033Z
LAST-MODIFIED:20260324T214023Z
UID:10000433-1781287200-1781301600@peoriaparks.org
SUMMARY:Revel In Red with Emperors and Angels
DESCRIPTION:Revel in Red is a premier high-energy rock act based in Central Illinois\, built by a collective of seasoned musicians with decades of shared history on regional and national stages. Drawing from a deep catalog of classic and modern rock\, Revel in Red crafts performances that span generations. Their sets seamlessly blend iconic anthems from Journey\, REO Speedwagon\, Van Halen\, and Boston with modern crowd favorites from artists like Bruno Mars\, P!nk\, Ed Sheeran\, Lady Gaga\, and more. \nEmperors & Angels is an outrageous group of friends who matriculate from the mighty Midwest. Destiny may have struck them later in life\, but the band is ready to face its new obstacles. EA boasts a self- produced Modern Rock edge with hints of Classic Rock and anthemic Hair Metal that shine. \nTICKETS GO ON SALE FRIDAY\, MARCH 27\, 2026 AT 8AM \nDate: Friday\, June 12\, 2026\nTime: Doors @ 6pm. Show @ 7pm\nTickets: Advanced $10 + online fees | Day of Show Price: $15 \nAdvanced tickets available at the Noble Center without added ticket fees\n1125 W. Lake Ave. Peoria\, IL \nGet your tickets by clicking HERE
URL:https://peoriaparks.org/event/revel-in-red-with-emperors-and-angels/
LOCATION:CEFCU Center Stage @ The Landing\, 200 NE Water Street\, Peoria\, IL\, 61602\, United States
ATTACH;FMTTYPE=image/jpeg:https://peoriaparks.org/wp-content/uploads/RiverFront-2026-Event-Assets-8.jpeg
END:VEVENT
BEGIN:VEVENT
DTSTART;TZID=America/Chicago:20260620T183000
DTEND;TZID=America/Chicago:20260620T223000
DTSTAMP:20260421T203612
CREATED:20260325T150037Z
LAST-MODIFIED:20260324T214048Z
UID:10000434-1781980200-1781994600@peoriaparks.org
SUMMARY:Free Fallin - The Tom Petty Concert Expereince
DESCRIPTION:Free Fallin has been performing the music of Tom Petty internationally for almost two decades\, evolving into a complete and spectacular live music production. This band\, with its highly skilled members\, delivers a professional and entertaining experience for any Tom Petty fan. Their show features all the hits and includes instruments and clothes that re-create the authentic experience of a Tom Petty concert. \nJoin us on the Peoria Riverfront Landing at the CEFCU Center Stage for a night of your favorite Tom Petty classics. \nTICKETS GO ON SALE FRIDAY\, MARCH 27\, 2026 AT 8AM \nDate: Saturday\, June 20\, 2026\nTime: Doors @ 6:30pm\, Show @ 7:30pm\nTickets: Advanced $13 + online fees | Day of Show Price: $20 \nAdvanced tickets available at the Noble Center without added ticket fees\n1125 W. Lake Ave. Peoria\, IL \nGet tour tickets by clicking HERE \n 
URL:https://peoriaparks.org/event/free-fallin-the-tom-petty-concert-expereince/
LOCATION:CEFCU Center Stage @ The Landing\, 200 NE Water Street\, Peoria\, IL\, 61602\, United States
ATTACH;FMTTYPE=image/jpeg:https://peoriaparks.org/wp-content/uploads/RiverFront-2026-Event-Assets-9.jpeg
END:VEVENT
BEGIN:VEVENT
DTSTART;TZID=America/Chicago:20260628T180000
DTEND;TZID=America/Chicago:20260628T230000
DTSTAMP:20260421T203612
CREATED:20260320T130022Z
LAST-MODIFIED:20260319T214141Z
UID:10000426-1782669600-1782687600@peoriaparks.org
SUMMARY:Buckcherry with Cole Hollow
DESCRIPTION:PEORIA PARK DISTRICT & 105.7 THE X PRESENT\n\nBUCKCHERRY\nWITH COLE HOLLOW\n\nGET TICKETS HERE\n\nDate: SUN\, JUNE 28\, 2026\nGates: 6 PM   Show: 7 PM\nGeneral Admission ADVANCED Ticket: $29\nGeneral Admission DAY OF SHOW Ticket: $34\nParty Pit ADDVANCED Ticket: $39\nParty Pit DAY OF SHOW Ticket: $44\n\nChildren 6 and under receive free admission unless otherwise noted.\nAll shows are rain or shine\, tickets are non-refundable.\nTICKETS INCREASE $5 ON THE DAY OF SHOW. \n\nGet ready for a high-energy night of hard rock as Buckcherry takes the stage live at the Peoria Riverfront. Formed in Los Angeles and known for their gritty sound and electrifying live performances\, Buckcherry has built a reputation as one of rock’s most exciting bands. With chart-topping hits like “Sorry\,” and “Lit Up\,” the band delivers a powerful mix of raw attitude\, driving guitars\, and unforgettable hooks that have made them a staple of modern rock for over two decades. Join us on the Peoria Riverfront Landing at the CEFCU Center Stage for an unforgettable night of hard-hitting rock and fan-favorite anthems performed by one of the genre’s most dynamic live bands.
URL:https://peoriaparks.org/event/buckcherry-with-cole-hollow/
LOCATION:CEFCU Center Stage @ The Landing\, 200 NE Water Street\, Peoria\, IL\, 61602\, United States
ATTACH;FMTTYPE=image/jpeg:https://peoriaparks.org/wp-content/uploads/SOCIAL-6.28-BUCKCHERRY.jpg
END:VEVENT
BEGIN:VEVENT
DTSTART;TZID=America/Chicago:20260702T180000
DTEND;TZID=America/Chicago:20260702T220000
DTSTAMP:20260421T203612
CREATED:20260325T150052Z
LAST-MODIFIED:20260324T214712Z
UID:10000435-1783015200-1783029600@peoriaparks.org
SUMMARY:Parrots of the Caribbean
DESCRIPTION:Get ready for an unforgettable summer night on the Peoria Riverfront as Parrots of the Caribbean brings their high-energy trop-rock show to the CEFCU Stage! \nFeaturing the ultimate “Salute to Jimmy Buffett\,” along with fan-favorite originals and crowd-pleasing stage antics\, this acclaimed tribute delivers the island vibe straight to the riverfront. Recognized as the #1 Jimmy Buffett tribute\, this powerhouse group of five talented musicians combines tight harmonies\, authentic sound\, and interactive fun to create a true beach party atmosphere. \nExpect sing-along classics\, feel-good anthems\, and nonstop energy as the band transforms the Peoria Riverfront into a tropical escape. Bring your lawn chairs\, your flip-flops\, and your best island spirit — because this is one summer show you won’t want to miss! \nTICKETS GO ON SALE FRIDAY\, MARCH 27\, 2026 AT 8AM \nDate: Thursday\, July 2\, 2026\nTime: Doors @ 6pm. Show @ 7pm\nTickets: Advanced $13 + online fees | Day of Show Price: $20 \nAdvanced tickets available at the Noble Center without added ticket fees\n1125 W. Lake Ave. Peoria\, IL \nGet your tickets by clicking HERE
URL:https://peoriaparks.org/event/parrots-of-the-caribbean/
LOCATION:CEFCU Center Stage @ The Landing\, 200 NE Water Street\, Peoria\, IL\, 61602\, United States
ATTACH;FMTTYPE=image/jpeg:https://peoriaparks.org/wp-content/uploads/RiverFront-2026-Event-Assets-10.jpeg
END:VEVENT
BEGIN:VEVENT
DTSTART;TZID=America/Chicago:20260703T180000
DTEND;TZID=America/Chicago:20260703T220000
DTSTAMP:20260421T203612
CREATED:20260325T150012Z
LAST-MODIFIED:20260324T215453Z
UID:10000436-1783101600-1783116000@peoriaparks.org
SUMMARY:Tennessee Whiskey - A Tribute to Chris Stapleton with Taylor Bruninga & the Bandits
DESCRIPTION:Tennessee Whiskey brings together some of the Chicago’s finest musicians to celebrate the music of Chris Stapleton. With powerhouse vocals\, rich harmonies\, and unforgettable energy\, fans can expect a tribute show that leaves them wanting more! \nGrab your cowboy hat\, put on your boots\, and join us for an unforgettable night of Chris Stapleton classics\, along with Taylor Bruninga & the Bandits\, on the Peoria Riverfront’s CEFCU Center Stage at the Landing. \nTICKETS GO ON SALE FRIDAY\, MARCH 27\, 2026 AT 8AM \nDate: Friday\, July 3\, 2026\nTime: Doors @ 6pm. Show @ 7pm\nTickets: Advanced $13 + online fees | Day of Show Price: $20 \nAdvanced tickets available at the Noble Center without added ticket fees\n1125 W. Lake Ave. Peoria\, IL \nGet your tickets by clicking HERE
URL:https://peoriaparks.org/event/tennessee-whiskey-a-tribute-to-chris-stapleton-with-taylor-bruninga-the-bandits/
LOCATION:CEFCU Center Stage @ The Landing\, 200 NE Water Street\, Peoria\, IL\, 61602\, United States
ATTACH;FMTTYPE=image/jpeg:https://peoriaparks.org/wp-content/uploads/RiverFront-2026-Event-Assets-11.jpeg
END:VEVENT
BEGIN:VEVENT
DTSTART;TZID=America/Chicago:20260710T180000
DTEND;TZID=America/Chicago:20260710T230000
DTSTAMP:20260421T203612
CREATED:20250407T193959Z
LAST-MODIFIED:20260325T213853Z
UID:10000243-1783706400-1783724400@peoriaparks.org
SUMMARY:Dexter O'Neal and the Funkyard with Erech Bruce: Presented by River City Soul Fest
DESCRIPTION:Dexter is just mesmerizing. A Louisiana born\, Illinois raised stick of dynamite. With a rocking band behind him\, Dexter O’Neal and the Funkyard perform legendary funk\, soul\, and R&B classics. \nJoin us for a night of FUNK on the Peoria Riverfront at the CEFCU Center Stage Presented by River City Soul Fest with Dexter O’Neal and the Funk Yard! \nDate: Friday\, July 10\, 2026\nTime: Doors @ 6pm. Show @ 7pm\nTickets: Advanced $13 + online fees | Day of Show Price: $20 \nAdvanced tickets available at the Noble Center without added ticket fees\n1125 W. Lake Ave. Peoria\, IL \nGet your tickets by clicking HERE
URL:https://peoriaparks.org/event/dexter-oneal-and-the-funkyard/
LOCATION:CEFCU Center Stage @ The Landing\, 200 NE Water Street\, Peoria\, IL\, 61602\, United States
ATTACH;FMTTYPE=image/jpeg:https://peoriaparks.org/wp-content/uploads/RiverFront-2026-Event-Assets-16.jpeg
END:VEVENT
BEGIN:VEVENT
DTSTART;TZID=America/Chicago:20260731T180000
DTEND;TZID=America/Chicago:20260731T230000
DTSTAMP:20260421T203612
CREATED:20260325T150045Z
LAST-MODIFIED:20260325T202319Z
UID:10000277-1785520800-1785538800@peoriaparks.org
SUMMARY:Monsters of Yacht
DESCRIPTION:All aboard!\nMonsters of Yacht from Nashville TN is America’s premier tribute to the Yacht Rock Genre. This fast-growing band has planted its flag firmly into the look and sound of smooth music from the 70’s to the early 80’s.\nMonsters of Yacht delivers rocking recreations of songs from artists like Christopher Cross\, Doobie Brothers\, TOTO\, Robbie Dupree\, Player\, Hall & Oates\, Steely Dan\, Gerry Rafferty\, Boz Scaggs\, Bee Gees and many more.\nDon’t miss the boat when Monsters of Yacht hit shore on the Peoria Riverfront this summer!\n\n\nTICKETS GO ON SALE FRIDAY\, MARCH 27\, 2026 AT 8AM \nDate: Friday\, July 31\, 2026\nTime: Doors @ 6pm. Show @ 7pm\nTickets: Advanced $17 + online fees | Day of Show Price: $25 \nAdvanced tickets available at the Noble Center without added ticket fees\n1125 W. Lake Ave. Peoria\, IL \nGet your tickets by clicking HERE
URL:https://peoriaparks.org/event/monsters-of-yacht/
LOCATION:CEFCU Center Stage @ The Landing\, 200 NE Water Street\, Peoria\, IL\, 61602\, United States
ATTACH;FMTTYPE=image/jpeg:https://peoriaparks.org/wp-content/uploads/RiverFront-2026-Event-Assets-13-1.jpeg
END:VEVENT
END:VCALENDAR