BEGIN:VCALENDAR
VERSION:2.0
PRODID:-//Peoria Park District - ECPv6.15.15//NONSGML v1.0//EN
CALSCALE:GREGORIAN
METHOD:PUBLISH
X-WR-CALNAME:Peoria Park District
X-ORIGINAL-URL:https://peoriaparks.org
X-WR-CALDESC:Events for Peoria Park District
REFRESH-INTERVAL;VALUE=DURATION:PT1H
X-Robots-Tag:noindex
X-PUBLISHED-TTL:PT1H
BEGIN:VTIMEZONE
TZID:America/Chicago
BEGIN:DAYLIGHT
TZOFFSETFROM:-0600
TZOFFSETTO:-0500
TZNAME:CDT
DTSTART:20240310T080000
END:DAYLIGHT
BEGIN:STANDARD
TZOFFSETFROM:-0500
TZOFFSETTO:-0600
TZNAME:CST
DTSTART:20241103T070000
END:STANDARD
BEGIN:DAYLIGHT
TZOFFSETFROM:-0600
TZOFFSETTO:-0500
TZNAME:CDT
DTSTART:20250309T080000
END:DAYLIGHT
BEGIN:STANDARD
TZOFFSETFROM:-0500
TZOFFSETTO:-0600
TZNAME:CST
DTSTART:20251102T070000
END:STANDARD
BEGIN:DAYLIGHT
TZOFFSETFROM:-0600
TZOFFSETTO:-0500
TZNAME:CDT
DTSTART:20260308T080000
END:DAYLIGHT
BEGIN:STANDARD
TZOFFSETFROM:-0500
TZOFFSETTO:-0600
TZNAME:CST
DTSTART:20261101T070000
END:STANDARD
END:VTIMEZONE
BEGIN:VEVENT
DTSTART;TZID=America/Chicago:20250712T190000
DTEND;TZID=America/Chicago:20250712T230000
DTSTAMP:20260421T222022
CREATED:20250521T204951Z
LAST-MODIFIED:20250521T205707Z
UID:10000279-1752346800-1752361200@peoriaparks.org
SUMMARY:The Way Down Wanderers with Them Coulee Boys
DESCRIPTION:Peoria Park District Presents an evening with The Way Down Wanderers\, along with Them Coulee Boys\, on the CEFCU Center Stage on Saturday\, July 12th.\nDoors 7pmMusic 8pm\n$15 Advance + online fees | $20 Day of Show\nTickets are available at the Noble Center without additional fees located at 1125 W Lake Ave\, Peoria\, IL 61614.
URL:https://peoriaparks.org/event/the-way-down-wanderers-with-them-coulee-boys/
LOCATION:CEFCU Center Stage @ The Landing\, 200 NE Water Street\, Peoria\, IL\, 61602\, United States
ATTACH;FMTTYPE=image/png:https://peoriaparks.org/wp-content/uploads/2025-Summer-Concert-Announcement-8-July-25-WDW-1.png
END:VEVENT
BEGIN:VEVENT
DTSTART;TZID=America/Chicago:20250711T180000
DTEND;TZID=America/Chicago:20250711T220000
DTSTAMP:20260421T222022
CREATED:20260325T150048Z
LAST-MODIFIED:20260325T012408Z
UID:10000278-1752256800-1752271200@peoriaparks.org
SUMMARY:Decade of Decadence
DESCRIPTION:Decade of Decadence is the Ultimate 80’s Rock Party! A Live Concert event playing the biggest and best anthems of the 80’s Era of Arena Rock and Hair Bands! Non-stop entertainment and a show that takes you right back to the glory days with some of the most popular songs ever written! \nDon’t miss it! Get your tickets now.\nTICKETS GO ON SALE FRIDAY\, MARCH 27\, 2026 AT 8AM \nDate: Friday\, August 21\, 2026\nTime: Doors @ 7pm. Show @ 8pm\nTickets: Advanced $8 + online fees | Day of Show Price: $12 \nAdvanced tickets available at the Noble Center without added ticket fees\n1125 W. Lake Ave. Peoria\, IL \nGet your tickets by clicking HERE
URL:https://peoriaparks.org/event/decade-of-decadence-80s-hair-night/
LOCATION:CEFCU Center Stage @ The Landing\, 200 NE Water Street\, Peoria\, IL\, 61602\, United States
ATTACH;FMTTYPE=image/jpeg:https://peoriaparks.org/wp-content/uploads/RiverFront-2026-Event-Assets-14-1.jpeg
END:VEVENT
BEGIN:VEVENT
DTSTART;TZID=America/Chicago:20250621T180000
DTEND;TZID=America/Chicago:20250621T220000
DTSTAMP:20260421T222022
CREATED:20250407T202848Z
LAST-MODIFIED:20250407T205149Z
UID:10000245-1750528800-1750543200@peoriaparks.org
SUMMARY:Heartache Tonight: A Tribute to the Eagles
DESCRIPTION:There are other Eagles tribute shows but none as exciting and powerful or as true to the original spirit of the Eagles as this one. There are no pre-recorded backing tracks in this show; all vocal harmonies and guitar parts are faithful to the originals and performed live.\nThis is a real concert experience featuring all the timeless classic songs from one of the greatest rock bands of all time.\nhttps://www.heartachetonight.com/\n\nDoors Open: 6pm\nShow Begins: 7:00pm
URL:https://peoriaparks.org/event/heartache-tonight-a-tribute-to-the-eagles/
LOCATION:CEFCU Center Stage @ The Landing\, 200 NE Water Street\, Peoria\, IL\, 61602\, United States
ATTACH;FMTTYPE=image/png:https://peoriaparks.org/wp-content/uploads/2025-Summer-Concert-Announcement-5-June-21-Heartache-.png
END:VEVENT
BEGIN:VEVENT
DTSTART;TZID=America/Chicago:20250613T180000
DTEND;TZID=America/Chicago:20250613T230000
DTSTAMP:20260421T222022
CREATED:20250415T183511Z
LAST-MODIFIED:20250415T183511Z
UID:10000246-1749837600-1749855600@peoriaparks.org
SUMMARY:GRATEFUL DUB: a Reggae-infused tribute to the GRATEFUL DEAD w/ Roots of Creation
DESCRIPTION:Join us for Grateful Dub: A Reggae Infused Grateful Dead Set + Roots of Creation on the Peoria Riverfront’s CEFCU Center Stage\, presented by the Peoria Park District.\nLocal Americana\, progressive newgrass favorites Still Shine will open up the night.\nDate: Friday\, June 13th\nDoors @ 6PMMusic @ 7PM\nPerformances: Grateful Dub\, Roots of Creation\, Still Shine\nFood: Grill Em All\nTickets: $17 Advance | $24 Day of Show\n—\nRoots of Creation:The chart topping\, award-winning\, international reggae-rock sensation Roots of Creation\, are a touring powerhouse that offers up a high-energy\, infectious live music experience. Their mix of reggae riddims\, conscious lyrics\, spirited horn lines\, and electronic beats makes crowds move and has their loyal fans packing shows from coast-to-coast. Playing both an original set of music as well as a Grateful Dub set\, Roots of Creation captures the spirit and magic of the Grateful Dead\, while laying it down reggae-dub style.\nStill Shine:Still Shine is a group of like-minded\, seasoned musicians blending acoustic roots and progressive bluegrass. Mixing mandolin\, harmonica\, banjo\, acoustic guitar\, upright bass\, and tight harmonies they quickly gained a following around Central Illinois area and the local Midwest. They have shared the stage with artists such as Billy Strings\, Railroad Earth\, The Leadfoot Band\, Split Lip Rayfield\, Horseshoes and Hand Grenades\, Kitchen Dwellers\, Larry Keel\, Chicago Farmer\, Old Shoe and the Way Down Wanderers just to name a few.
URL:https://peoriaparks.org/event/grateful-dub-a-reggae-infused-tribute-to-the-grateful-dead-w-roots-of-creation/
LOCATION:CEFCU Center Stage @ The Landing\, 200 NE Water Street\, Peoria\, IL\, 61602\, United States
ATTACH;FMTTYPE=image/jpeg:https://peoriaparks.org/wp-content/uploads/Roots-Of-Creation-2025-3-ROC-Poster.jpeg
END:VEVENT
END:VCALENDAR